BEGIN:VCALENDAR
VERSION:2.0
PRODID:-//FormaTerre - ECPv6.15.20//NONSGML v1.0//EN
CALSCALE:GREGORIAN
METHOD:PUBLISH
X-WR-CALNAME:FormaTerre
X-ORIGINAL-URL:https://www.poleterresolide.fr
X-WR-CALDESC:Évènements pour FormaTerre
REFRESH-INTERVAL;VALUE=DURATION:PT1H
X-Robots-Tag:noindex
X-PUBLISHED-TTL:PT1H
BEGIN:VTIMEZONE
TZID:Europe/Paris
BEGIN:DAYLIGHT
TZOFFSETFROM:+0100
TZOFFSETTO:+0200
TZNAME:CEST
DTSTART:20250330T010000
END:DAYLIGHT
BEGIN:STANDARD
TZOFFSETFROM:+0200
TZOFFSETTO:+0100
TZNAME:CET
DTSTART:20251026T010000
END:STANDARD
BEGIN:DAYLIGHT
TZOFFSETFROM:+0100
TZOFFSETTO:+0200
TZNAME:CEST
DTSTART:20260329T010000
END:DAYLIGHT
BEGIN:STANDARD
TZOFFSETFROM:+0200
TZOFFSETTO:+0100
TZNAME:CET
DTSTART:20261025T010000
END:STANDARD
BEGIN:DAYLIGHT
TZOFFSETFROM:+0100
TZOFFSETTO:+0200
TZNAME:CEST
DTSTART:20270328T010000
END:DAYLIGHT
BEGIN:STANDARD
TZOFFSETFROM:+0200
TZOFFSETTO:+0100
TZNAME:CET
DTSTART:20271031T010000
END:STANDARD
END:VTIMEZONE
BEGIN:VEVENT
DTSTART;VALUE=DATE:20260503
DTEND;VALUE=DATE:20260509
DTSTAMP:20260426T022411
CREATED:20260309T093624Z
LAST-MODIFIED:20260309T095940Z
UID:16524-1777766400-1778284799@www.poleterresolide.fr
SUMMARY:EGU26
DESCRIPTION:L’Union Européenne des Géosciences (EGU) est la principale organisation européenne dédiée à la recherche en sciences de la Terre\, des planètes et de l’espace. Elle compte environ 23 500 membres dans le monde entier et a son siège à Munich\, en Allemagne.\n\nFormaTerre sera présent à l’EGU General Assembly 2026. Le plus grand rassemblement européen de géosciences se tiendra à Vienne (Autriche) et en ligne du 3 au 8 mai 2026.
URL:https://www.poleterresolide.fr/event/egu26/
LOCATION:Vienna\, Vienna\, Austria
CATEGORIES:Conférence
END:VEVENT
BEGIN:VEVENT
DTSTART;VALUE=DATE:20260526
DTEND;VALUE=DATE:20260530
DTSTAMP:20260426T022411
CREATED:20260401T135057Z
LAST-MODIFIED:20260402T090608Z
UID:16582-1779753600-1780099199@www.poleterresolide.fr
SUMMARY:4ème workshop du réseau thématique NuTS
DESCRIPTION: \n4ème workshop du réseau thématique NuTS – Assimilation de données 26–29 mai 2026 | Manufacture des Tabacs\, Strasbourg\nLe réseau thématique Numérique en Terre Solide (NuTS)\, financé par le CNRS-INSU\, organise son quatrième workshop autour de la thématique de l’assimilation de données.\n\nCe réseau fédère chercheurs\, ingénieurs et étudiants travaillant sur la modélisation\, les problèmes inverses\, l’analyse de données et le calcul scientifique appliqués aux géosciences de la Terre solide\, avec un accent fort sur les outils ouverts et les workflows reproductibles.\nL’édition 2026 \n \n\n 	L’édition 2026 a pour ambition de renforcer les échanges avec des communautés voisines disposant d’une solide expertise en assimilation de données — hydrologie\, sciences atmosphériques\, sciences du système Terre — afin de croiser les approches et d’explorer des méthodes hybrides combinant modélisation physique et apprentissage automatique. \n 	Les enjeux communs comme la quantification des incertitudes\, la dynamique multi-échelles ou la gestion de grands volumes de données observationnelles seront au cœur des discussions.\n 	Le programme s’articulera autour de présentations invitées\, de sessions de discussion thématiques et de sessions pratiques\, dans un esprit interdisciplinaire et ouvert.\n\nInfos pratiques :\n\n 	Du 26 mai (13h) au 29 mai 2026 (12h)\n 	Manufacture des Tabacs\, Strasbourg\n 	Les déjeuners et pauses café sont pris en charge par le réseau ; hébergement et transport à la charge des participants\n 	Un dîner social est prévu en soirée
URL:https://www.poleterresolide.fr/event/4eme-workshop-du-reseau-thematique-nuts/
LOCATION:Manufacture des Tabacs\, Strasbourg\, France
CATEGORIES:Workshop
END:VEVENT
END:VCALENDAR