BEGIN:VCALENDAR
VERSION:2.0
PRODID:-//FormaTerre - ECPv6.15.20//NONSGML v1.0//EN
CALSCALE:GREGORIAN
METHOD:PUBLISH
X-WR-CALNAME:FormaTerre
X-ORIGINAL-URL:https://www.poleterresolide.fr
X-WR-CALDESC:Évènements pour FormaTerre
REFRESH-INTERVAL;VALUE=DURATION:PT1H
X-Robots-Tag:noindex
X-PUBLISHED-TTL:PT1H
BEGIN:VTIMEZONE
TZID:Europe/Paris
BEGIN:DAYLIGHT
TZOFFSETFROM:+0100
TZOFFSETTO:+0200
TZNAME:CEST
DTSTART:20250330T010000
END:DAYLIGHT
BEGIN:STANDARD
TZOFFSETFROM:+0200
TZOFFSETTO:+0100
TZNAME:CET
DTSTART:20251026T010000
END:STANDARD
BEGIN:DAYLIGHT
TZOFFSETFROM:+0100
TZOFFSETTO:+0200
TZNAME:CEST
DTSTART:20260329T010000
END:DAYLIGHT
BEGIN:STANDARD
TZOFFSETFROM:+0200
TZOFFSETTO:+0100
TZNAME:CET
DTSTART:20261025T010000
END:STANDARD
BEGIN:DAYLIGHT
TZOFFSETFROM:+0100
TZOFFSETTO:+0200
TZNAME:CEST
DTSTART:20270328T010000
END:DAYLIGHT
BEGIN:STANDARD
TZOFFSETFROM:+0200
TZOFFSETTO:+0100
TZNAME:CET
DTSTART:20271031T010000
END:STANDARD
END:VTIMEZONE
BEGIN:VEVENT
DTSTART;VALUE=DATE:20260914
DTEND;VALUE=DATE:20260919
DTSTAMP:20260426T052356
CREATED:20260401T130223Z
LAST-MODIFIED:20260416T092321Z
UID:16572-1789344000-1789775999@www.poleterresolide.fr
SUMMARY:MDIS 2026 – Mesure des Déformations de la surface terrestre par Imagerie Satellitaire / 14–18 septembre 2026
DESCRIPTION:La cinquième édition du colloque MDIS se tiendra du 14 au 18 septembre 2026\, co-organisée par l’Observatoire Terre Environnement de Lorraine (OTELo\, Nancy) et le Centre Européen de Géodynamique et de Séismologie (ECGS\, Luxembourg)\, avec la participation active de FormaTerre.\nL’événement se déroule en deux temps : \n\n 	deux journées de formation (14–15 septembre) à l’École Nationale Supérieure de Géologie de Nancy (ENSG)\, \n 	suivies de trois journées de colloque scientifique (16–18 septembre) au centre des Jonquilles à Xonrupt-Longemer.\n\nAu programme : \n\n 	Sessions thématiques autour de l’InSAR\, de la corrélation d’images\, de l’IA appliquée à la télédétection\, et des grandes thématiques géoscientifiques (tectonique\, volcanisme\, cryosphère\, mouvements de terrain\, hydrologie et déformations anthropiques). Cette édition mettra particulièrement l’accent sur la gestion massive des données et l’usage de l’IA pour la détection automatique.\n 	Les journées de formation incluront notamment des sessions dédiées aux produits et services FormaTerre : FLATSIM\, GDM-OPT\, GDM-SAR\, DSM-OPT\, ainsi qu’aux plateformes de téléchargement (GEODES\, Dinamis\, Copernicus\, LiDAR-HD\, EGMS).\n\n \nInscriptions gratuites (mais obligatoires) :\n\n 	Ouvertes du 1er mars au 14 juin 2026 (places limitées).\n 	Soumission des résumés  du 1er avril au 10 mai 2026.\n\n 
URL:https://www.poleterresolide.fr/event/mdis-2026-mesure-des-deformations-de-la-surface-terrestre-par-imagerie-satellitaire-14-18-septembre-2026/
LOCATION:Xonrupt-Longemer\, France
CATEGORIES:Colloque,Workshop
END:VEVENT
END:VCALENDAR