BEGIN:VCALENDAR
VERSION:2.0
PRODID:-//FormaTerre - ECPv6.15.20//NONSGML v1.0//EN
CALSCALE:GREGORIAN
METHOD:PUBLISH
X-ORIGINAL-URL:https://www.poleterresolide.fr
X-WR-CALDESC:Évènements pour FormaTerre
REFRESH-INTERVAL;VALUE=DURATION:PT1H
X-Robots-Tag:noindex
X-PUBLISHED-TTL:PT1H
BEGIN:VTIMEZONE
TZID:Europe/Paris
BEGIN:DAYLIGHT
TZOFFSETFROM:+0100
TZOFFSETTO:+0200
TZNAME:CEST
DTSTART:20200329T010000
END:DAYLIGHT
BEGIN:STANDARD
TZOFFSETFROM:+0200
TZOFFSETTO:+0100
TZNAME:CET
DTSTART:20201025T010000
END:STANDARD
BEGIN:DAYLIGHT
TZOFFSETFROM:+0100
TZOFFSETTO:+0200
TZNAME:CEST
DTSTART:20210328T010000
END:DAYLIGHT
BEGIN:STANDARD
TZOFFSETFROM:+0200
TZOFFSETTO:+0100
TZNAME:CET
DTSTART:20211031T010000
END:STANDARD
BEGIN:DAYLIGHT
TZOFFSETFROM:+0100
TZOFFSETTO:+0200
TZNAME:CEST
DTSTART:20220327T010000
END:DAYLIGHT
BEGIN:STANDARD
TZOFFSETFROM:+0200
TZOFFSETTO:+0100
TZNAME:CET
DTSTART:20221030T010000
END:STANDARD
END:VTIMEZONE
BEGIN:VEVENT
DTSTART;VALUE=DATE:20210531
DTEND;VALUE=DATE:20210605
DTSTAMP:20260421T152745
CREATED:20210601T141212Z
LAST-MODIFIED:20210601T142233Z
UID:6341-1622419200-1622851199@www.poleterresolide.fr
SUMMARY:FRINGE 2021
DESCRIPTION:11ème workshop international sur les avancés scientifiques et applications de l’interférométrie radar et Sentinel-1 InSAR organisé par l’ESA.\n\n 	Cette année il est complètement en ligne.\n 	Programme disponible sur le site de l’événement.\n\n 
URL:https://www.poleterresolide.fr/event/fringe-2021/
LOCATION:En ligne
CATEGORIES:Workshop
ATTACH;FMTTYPE=image/png:https://www.poleterresolide.fr/wp-content/uploads/2021/06/FRINGE-2021.png
END:VEVENT
END:VCALENDAR