BEGIN:VCALENDAR
VERSION:2.0
PRODID:-//FormaTerre - ECPv6.15.20//NONSGML v1.0//EN
CALSCALE:GREGORIAN
METHOD:PUBLISH
X-ORIGINAL-URL:https://www.poleterresolide.fr
X-WR-CALDESC:Évènements pour FormaTerre
REFRESH-INTERVAL;VALUE=DURATION:PT1H
X-Robots-Tag:noindex
X-PUBLISHED-TTL:PT1H
BEGIN:VTIMEZONE
TZID:Europe/Paris
BEGIN:DAYLIGHT
TZOFFSETFROM:+0100
TZOFFSETTO:+0200
TZNAME:CEST
DTSTART:20220327T010000
END:DAYLIGHT
BEGIN:STANDARD
TZOFFSETFROM:+0200
TZOFFSETTO:+0100
TZNAME:CET
DTSTART:20221030T010000
END:STANDARD
BEGIN:DAYLIGHT
TZOFFSETFROM:+0100
TZOFFSETTO:+0200
TZNAME:CEST
DTSTART:20230326T010000
END:DAYLIGHT
BEGIN:STANDARD
TZOFFSETFROM:+0200
TZOFFSETTO:+0100
TZNAME:CET
DTSTART:20231029T010000
END:STANDARD
BEGIN:DAYLIGHT
TZOFFSETFROM:+0100
TZOFFSETTO:+0200
TZNAME:CEST
DTSTART:20240331T010000
END:DAYLIGHT
BEGIN:STANDARD
TZOFFSETFROM:+0200
TZOFFSETTO:+0100
TZNAME:CET
DTSTART:20241027T010000
END:STANDARD
END:VTIMEZONE
BEGIN:VEVENT
DTSTART;TZID=Europe/Paris:20230710T080000
DTEND;TZID=Europe/Paris:20230720T170000
DTSTAMP:20260421T111346
CREATED:20230711T144729Z
LAST-MODIFIED:20230717T103012Z
UID:12803-1688976000-1689872400@www.poleterresolide.fr
SUMMARY:ForM@Ter à l'IUGG 2023
DESCRIPTION:La 28ᵉ Assemblée générale de l’IUGG (IUGG2023) se tiendra du 11 au 20 juillet 2023 au CityCube à Berlin\, en Allemagne. \nCette Assemblée générale permet aux participants du monde entier de se réunir et de discuter de l’ensemble des thèmes géodésiques et géophysiques\, et de renforcer une collaboration interdisciplinaire pour une meilleure compréhension du système Terre.\n\nL’IUGG 2023  abordera également les grands défis sociétaux urgents tels que le changement environnemental mondial et les risques naturels\, et pour stimuler de nouvelles recherches géo-scientifiques.\n\n \nListe des présentations en lien avec ForM@Ter\nPour ne rien rater\, suivez les liens ci-dessous: \n\nGéomagnétisme\n\n 	A24p-014: International Service of Geomagnetic Indices: Current status and Roadmap in e-infrastructures ecosystem\n\n \n Produits/traitements  (Centres d’Analyses du CNES en lien avec ForM@Ter)\n\n 	IUGG23-3967: CNES/CLS products for the Reference system & frame\n\n \n\n 	IUGG23-4682: The DORIS evaluation of the DTRF2020\, ITRF2020 and JTRF2020 realizations\n\n \n\n 	IUGG23-4437: The International DORIS Service after 20 years: Achievements and Look to the Future\n\n \n\n 	IUGG23-1646: The extended GRACE combination COST-G GRACE RL02\n\n \nSession de présentation de Data Terra\nNe ratez pas la  présentation du poster de l’IR Data Terra lors de l’IUGG 2023\n\n 	16 Juillet – 17 h 00 – Hall B\n 	JH01p-272: Data Terra\, the French research e-infrastructure for Earth system and environment\n\nLiens utiles\n\n 	Pour les informations importantes\, c’est par ici : https://www.iugg2023berlin.org/practical-information/\n 	Pour s’inscrire à l’IUGG 2023\, suivez ce lien : https://www.iugg2023berlin.org/registration-guidelines/\n 	Pour le programme détaillé en PDF\, suivez ce lien : http://www.iugg2023berlin.org/wp-content/uploads/2023/07/IUGG-2023-Program-Book.pdf
URL:https://www.poleterresolide.fr/event/uigg-2023/
CATEGORIES:Workshop
ATTACH;FMTTYPE=image/png:https://www.poleterresolide.fr/wp-content/uploads/2023/07/logo_tower-1.png
END:VEVENT
END:VCALENDAR