BEGIN:VCALENDAR
VERSION:2.0
PRODID:-//FormaTerre - ECPv6.15.20//NONSGML v1.0//EN
CALSCALE:GREGORIAN
METHOD:PUBLISH
X-ORIGINAL-URL:https://www.poleterresolide.fr
X-WR-CALDESC:Évènements pour FormaTerre
REFRESH-INTERVAL;VALUE=DURATION:PT1H
X-Robots-Tag:noindex
X-PUBLISHED-TTL:PT1H
BEGIN:VTIMEZONE
TZID:Europe/Paris
BEGIN:DAYLIGHT
TZOFFSETFROM:+0100
TZOFFSETTO:+0200
TZNAME:CEST
DTSTART:20240331T010000
END:DAYLIGHT
BEGIN:STANDARD
TZOFFSETFROM:+0200
TZOFFSETTO:+0100
TZNAME:CET
DTSTART:20241027T010000
END:STANDARD
BEGIN:DAYLIGHT
TZOFFSETFROM:+0100
TZOFFSETTO:+0200
TZNAME:CEST
DTSTART:20250330T010000
END:DAYLIGHT
BEGIN:STANDARD
TZOFFSETFROM:+0200
TZOFFSETTO:+0100
TZNAME:CET
DTSTART:20251026T010000
END:STANDARD
BEGIN:DAYLIGHT
TZOFFSETFROM:+0100
TZOFFSETTO:+0200
TZNAME:CEST
DTSTART:20260329T010000
END:DAYLIGHT
BEGIN:STANDARD
TZOFFSETFROM:+0200
TZOFFSETTO:+0100
TZNAME:CET
DTSTART:20261025T010000
END:STANDARD
END:VTIMEZONE
BEGIN:VEVENT
DTSTART;TZID=Europe/Paris:20250930T140000
DTEND;TZID=Europe/Paris:20251003T140000
DTSTAMP:20260426T053626
CREATED:20250711T072326Z
LAST-MODIFIED:20250711T072455Z
UID:16098-1759240800-1759500000@www.poleterresolide.fr
SUMMARY:Colloque Prospective INSU du domaine Terre Solide 2026-2030
DESCRIPTION:Une étape clé pour l’avenir de la recherche en Sciences de la Terre\nFormaTerre vous invite à participer au Colloque Prospective INSU du domaine Terre Solide 2026-2030\, un événement majeur qui façonnera l’avenir de la recherche française en Sciences de la Terre pour les cinq prochaines années.\nUn enjeu stratégique pour la communauté scientifique\nDans le cadre de sa mission d’élaboration et de coordination des recherches d’ampleur nationale et internationale\, l’Institut National des Sciences de l’Univers (INSU) du CNRS conduit tous les cinq ans des exercices de prospective dans chacun de ses domaines thématiques. En 2024\, une nouvelle prospective dédiée aux enjeux\, outils et moyens de la recherche dans le domaine Terre Solide a été lancée pour la période 2026-2030\, sous la coordination de la Commission Spécialisée Terre Solide (CSTS).\nUn processus collaboratif et inclusif\nCe colloque représente l’aboutissement d’un processus de réflexion collective qui a impliqué toute la communauté scientifique française du domaine Terre Solide. Après une phase de consultation en ligne ouverte à tous les acteurs de la recherche et le partage d’une première version du document de prospective\, ce rassemblement constitue l’étape finale de concertation avant la finalisation du document stratégique en décembre 2025.\nÀ qui s’adresse cet événement ?\nCette invitation s’adresse à tous les acteurs de la recherche en Terre Solide en France : chercheurs\, enseignants-chercheurs\, personnel support (ITA\, BIATOS\, etc.)\, qu’ils soient permanents ou contractuels au CNRS\, à l’Université\, ou dans un organisme partenaire.\nObjectifs du colloque\nLe colloque permettra de finaliser la réflexion collective sur :\n\n 	L’état actuel de la science en Terre Solide\n 	Les moyens et ressources nécessaires\n 	Les enjeux et priorités scientifiques des cinq prochaines années\n 	Les besoins instrumentaux et organisationnels du domaine\n 	Les interfaces avec les autres domaines des Sciences de l’Univers\n\nPourquoi participer ?\nVotre participation contribuera directement à définir les orientations stratégiques de la recherche française en Sciences de la Terre pour 2026-2030. C’est l’occasion unique de faire entendre votre voix et de participer activement à la construction de l’avenir de votre domaine scientifique.\nInformations pratiques\n📅 Dates : Du mardi 30 septembre (début à 14h) au vendredi 3 octobre 2025 (fin à 14h00)\n\n📍 Lieu : Sowell\, 3 impasse des Consuls\, 34300 Cap d’Agde\n\n🔗 Inscription : Formulaire d’inscription en ligne\n\n🌐 Site officiel : prospective-ts.sciencesconf.org\n\n \n\n \n\n \n\n 
URL:https://www.poleterresolide.fr/event/colloque-prospective-insu-du-domaine-terre-solide-2026-2030/
LOCATION:Sowell\, 3 impasse des Consuls\, 34300 Cap d’Agde\, 3 impasse des Consuls\, Cap d'Agde\, 34300\, France
CATEGORIES:Colloque
ATTACH;FMTTYPE=image/png:https://www.poleterresolide.fr/wp-content/uploads/2025/07/Colloque-prospective-INSU.png
END:VEVENT
BEGIN:VEVENT
DTSTART;VALUE=DATE:20251027
DTEND;VALUE=DATE:20251101
DTSTAMP:20260426T053626
CREATED:20250728T151418Z
LAST-MODIFIED:20250728T151642Z
UID:16252-1761523200-1761955199@www.poleterresolide.fr
SUMMARY:29e édition de la Réunion des Sciences de la Terre
DESCRIPTION:La 29e édition de la Réunion des Sciences de la Terre (RST) se tiendra à Montpellier en 2025\, sous l’égide de la Société Géologique de France. Ce congrès national réunit tous les deux ans les acteurs de la recherche\, de l’enseignement et du secteur industriel autour des grands enjeux des géosciences. \nPlus de 100 sessions scientifiques sont au programmeNouvelle date limite de soumission des résumés : 7 septembre 2025Nouveau format: des excursions scientifiques sont proposées pendant le congrès. Ce format vise à encourager les échanges sur le terrain tout en permettant une participation complète aux sessions. \nFormaTerre sera présent à travers différentes interventions. Programme à venir. \nEn attendant: Inscriptions\, programme et infos pratiques sur le site officiel de la RST Montpellier 2025.
URL:https://www.poleterresolide.fr/event/29e-edition-de-la-reunion-des-sciences-de-la-terre/
LOCATION:Palais des congès Le Corum Montpellier\, France
CATEGORIES:Colloque
ATTACH;FMTTYPE=image/jpeg:https://www.poleterresolide.fr/wp-content/uploads/2025/07/banniere_rst2025_8excus.jpg
END:VEVENT
END:VCALENDAR